BEGIN:VCALENDAR
VERSION:2.0
PRODID:-//TMA - ECPv6.15.14//NONSGML v1.0//EN
CALSCALE:GREGORIAN
METHOD:PUBLISH
X-ORIGINAL-URL:https://public.tma149.ca
X-WR-CALDESC:Events for TMA
REFRESH-INTERVAL;VALUE=DURATION:PT1H
X-Robots-Tag:noindex
X-PUBLISHED-TTL:PT1H
BEGIN:VTIMEZONE
TZID:America/Toronto
BEGIN:DAYLIGHT
TZOFFSETFROM:-0500
TZOFFSETTO:-0400
TZNAME:EDT
DTSTART:20240310T070000
END:DAYLIGHT
BEGIN:STANDARD
TZOFFSETFROM:-0400
TZOFFSETTO:-0500
TZNAME:EST
DTSTART:20241103T060000
END:STANDARD
BEGIN:DAYLIGHT
TZOFFSETFROM:-0500
TZOFFSETTO:-0400
TZNAME:EDT
DTSTART:20250309T070000
END:DAYLIGHT
BEGIN:STANDARD
TZOFFSETFROM:-0400
TZOFFSETTO:-0500
TZNAME:EST
DTSTART:20251102T060000
END:STANDARD
BEGIN:DAYLIGHT
TZOFFSETFROM:-0500
TZOFFSETTO:-0400
TZNAME:EDT
DTSTART:20260308T070000
END:DAYLIGHT
BEGIN:STANDARD
TZOFFSETFROM:-0400
TZOFFSETTO:-0500
TZNAME:EST
DTSTART:20261101T060000
END:STANDARD
END:VTIMEZONE
BEGIN:VEVENT
DTSTART;TZID=America/Toronto:20250826T140000
DTEND;TZID=America/Toronto:20250826T150000
DTSTAMP:20260421T123430
CREATED:20250506T222525Z
LAST-MODIFIED:20250919T162927Z
UID:8809-1756216800-1756220400@public.tma149.ca
SUMMARY:How to File a Teaching Contract Seminar
DESCRIPTION:Do you have an active private teaching studio? Do you teach at a local music school or conservatory in the TMA jurisdiction? If so\, you may be missing out on valuable pension contributions! Find out how to maximize your earnings by attending this webinar geared for musicians who teach.
URL:https://public.tma149.ca/event/how-to-file-a-teaching-contract-seminar-2/
LOCATION:Zoom
CATEGORIES:Past Event,TMA Events - Learning & Training Opportunities
ATTACH;FMTTYPE=image/jpeg:https://public.tma149.ca/production/wp-content/uploads/Teaching-Seminar-pic.jpg
END:VEVENT
END:VCALENDAR