BEGIN:VCALENDAR
VERSION:2.0
PRODID:-//TMA - ECPv6.15.14//NONSGML v1.0//EN
CALSCALE:GREGORIAN
METHOD:PUBLISH
X-WR-CALNAME:TMA
X-ORIGINAL-URL:https://public.tma149.ca
X-WR-CALDESC:Events for TMA
REFRESH-INTERVAL;VALUE=DURATION:PT1H
X-Robots-Tag:noindex
X-PUBLISHED-TTL:PT1H
BEGIN:VTIMEZONE
TZID:America/Toronto
BEGIN:DAYLIGHT
TZOFFSETFROM:-0500
TZOFFSETTO:-0400
TZNAME:EDT
DTSTART:20250309T070000
END:DAYLIGHT
BEGIN:STANDARD
TZOFFSETFROM:-0400
TZOFFSETTO:-0500
TZNAME:EST
DTSTART:20251102T060000
END:STANDARD
BEGIN:DAYLIGHT
TZOFFSETFROM:-0500
TZOFFSETTO:-0400
TZNAME:EDT
DTSTART:20260308T070000
END:DAYLIGHT
BEGIN:STANDARD
TZOFFSETFROM:-0400
TZOFFSETTO:-0500
TZNAME:EST
DTSTART:20261101T060000
END:STANDARD
BEGIN:DAYLIGHT
TZOFFSETFROM:-0500
TZOFFSETTO:-0400
TZNAME:EDT
DTSTART:20270314T070000
END:DAYLIGHT
BEGIN:STANDARD
TZOFFSETFROM:-0400
TZOFFSETTO:-0500
TZNAME:EST
DTSTART:20271107T060000
END:STANDARD
END:VTIMEZONE
BEGIN:VEVENT
DTSTART;TZID=America/Toronto:20260421T110000
DTEND;TZID=America/Toronto:20260421T120000
DTSTAMP:20260421T090135
CREATED:20260128T193410Z
LAST-MODIFIED:20260409T181215Z
UID:9498-1776769200-1776772800@public.tma149.ca
SUMMARY:TMA Steward Training
DESCRIPTION:Calling all stewards! This engaging live session will introduce you to practical strategies for supporting members\, handling grievances\, and enforcing contracts with confidence. As part of this seminar\, you’ll gain essential tools and knowledge to strengthen solidarity and excel in your role as a Steward. \nRSVP Here
URL:https://public.tma149.ca/event/tma-steward-training-2/
CATEGORIES:TMA Events - Learning & Training Opportunities,Upcoming Event
ATTACH;FMTTYPE=image/webp:https://public.tma149.ca/production/wp-content/uploads/steward-e1775758329392.webp
END:VEVENT
END:VCALENDAR